BEGIN:VCALENDAR
VERSION:2.0
PRODID:-//Maison du Patrimoine Oral de Bourgogne - ECPv6.15.20//NONSGML v1.0//EN
CALSCALE:GREGORIAN
METHOD:PUBLISH
X-WR-CALNAME:Maison du Patrimoine Oral de Bourgogne
X-ORIGINAL-URL:https://mpo-bourgogne.org
X-WR-CALDESC:Évènements pour Maison du Patrimoine Oral de Bourgogne
REFRESH-INTERVAL;VALUE=DURATION:PT1H
X-Robots-Tag:noindex
X-PUBLISHED-TTL:PT1H
BEGIN:VTIMEZONE
TZID:Europe/Paris
BEGIN:DAYLIGHT
TZOFFSETFROM:+0100
TZOFFSETTO:+0200
TZNAME:CEST
DTSTART:20250330T010000
END:DAYLIGHT
BEGIN:STANDARD
TZOFFSETFROM:+0200
TZOFFSETTO:+0100
TZNAME:CET
DTSTART:20251026T010000
END:STANDARD
BEGIN:DAYLIGHT
TZOFFSETFROM:+0100
TZOFFSETTO:+0200
TZNAME:CEST
DTSTART:20260329T010000
END:DAYLIGHT
BEGIN:STANDARD
TZOFFSETFROM:+0200
TZOFFSETTO:+0100
TZNAME:CET
DTSTART:20261025T010000
END:STANDARD
BEGIN:DAYLIGHT
TZOFFSETFROM:+0100
TZOFFSETTO:+0200
TZNAME:CEST
DTSTART:20270328T010000
END:DAYLIGHT
BEGIN:STANDARD
TZOFFSETFROM:+0200
TZOFFSETTO:+0100
TZNAME:CET
DTSTART:20271031T010000
END:STANDARD
END:VTIMEZONE
BEGIN:VEVENT
DTSTART;VALUE=DATE:20261003
DTEND;VALUE=DATE:20261005
DTSTAMP:20260425T125504
CREATED:20260413T150953Z
LAST-MODIFIED:20260413T150953Z
UID:1926-1790985600-1791158399@mpo-bourgogne.org
SUMMARY:Fête de l'Automne et des associations à la Maison du Parc du Morvan
DESCRIPTION:Plus d’infos bientôt
URL:https://mpo-bourgogne.org/evenement/fete-de-lautomne-et-des-associations-a-la-maison-du-parc-du-morvan/
LOCATION:Maison du Parc\, Maison du Parc du Morvan\, Saint-Brisson\, 58230
CATEGORIES:Hors-les-murs,Réseaux,Vie associative
END:VEVENT
END:VCALENDAR