BEGIN:VCALENDAR
VERSION:2.0
PRODID:-//Maison du Patrimoine Oral de Bourgogne - ECPv6.15.20//NONSGML v1.0//EN
CALSCALE:GREGORIAN
METHOD:PUBLISH
X-WR-CALNAME:Maison du Patrimoine Oral de Bourgogne
X-ORIGINAL-URL:https://mpo-bourgogne.org
X-WR-CALDESC:Évènements pour Maison du Patrimoine Oral de Bourgogne
REFRESH-INTERVAL;VALUE=DURATION:PT1H
X-Robots-Tag:noindex
X-PUBLISHED-TTL:PT1H
BEGIN:VTIMEZONE
TZID:Europe/Paris
BEGIN:DAYLIGHT
TZOFFSETFROM:+0100
TZOFFSETTO:+0200
TZNAME:CEST
DTSTART:20250330T010000
END:DAYLIGHT
BEGIN:STANDARD
TZOFFSETFROM:+0200
TZOFFSETTO:+0100
TZNAME:CET
DTSTART:20251026T010000
END:STANDARD
BEGIN:DAYLIGHT
TZOFFSETFROM:+0100
TZOFFSETTO:+0200
TZNAME:CEST
DTSTART:20260329T010000
END:DAYLIGHT
BEGIN:STANDARD
TZOFFSETFROM:+0200
TZOFFSETTO:+0100
TZNAME:CET
DTSTART:20261025T010000
END:STANDARD
BEGIN:DAYLIGHT
TZOFFSETFROM:+0100
TZOFFSETTO:+0200
TZNAME:CEST
DTSTART:20270328T010000
END:DAYLIGHT
BEGIN:STANDARD
TZOFFSETFROM:+0200
TZOFFSETTO:+0100
TZNAME:CET
DTSTART:20271031T010000
END:STANDARD
END:VTIMEZONE
BEGIN:VEVENT
DTSTART;TZID=Europe/Paris:20261003T170000
DTEND;TZID=Europe/Paris:20261003T180000
DTSTAMP:20260425T170647
CREATED:20260413T151445Z
LAST-MODIFIED:20260413T151445Z
UID:1929-1791046800-1791050400@mpo-bourgogne.org
SUMMARY:Conférence sur les Figures féminines dans les collectes d'Achille Millien
DESCRIPTION:Conférence sur les Figures féminines dans les collectes d’Achille Millien \ndans le cadre des « Trois jours avec Achille » les 2-3-4 octobre organisé par Rézo’nances
URL:https://mpo-bourgogne.org/evenement/conference-sur-les-figures-feminines-dans-les-collectes-dachille-millien/
LOCATION:Beaumont-la-Ferrière\, Salle des fêtes\, le bourg\, Beaumont-la-Ferrière\, 58700
CATEGORIES:Conférence / tables rondes,Hors-les-murs
ORGANIZER;CN="R%C3%A9zo'nances":MAILTO:rezonances58@gmail.com
END:VEVENT
BEGIN:VEVENT
DTSTART;VALUE=DATE:20261017
DTEND;VALUE=DATE:20261018
DTSTAMP:20260425T170647
CREATED:20260413T153532Z
LAST-MODIFIED:20260413T153532Z
UID:1943-1792195200-1792281599@mpo-bourgogne.org
SUMMARY:Univers Cités rurales
DESCRIPTION:organisé par la Confédération nationales des Foyers Ruraux \nplus d’infos bientôt
URL:https://mpo-bourgogne.org/evenement/univers-cites-rurales/
CATEGORIES:Baluscule - veillée,Conférence / tables rondes,Hors-les-murs,Réseaux
ORGANIZER;CN="Conf%C3%A9d%C3%A9ration Nationale des Foyers ruraux":MAILTO:cnfr@mouvement-rural.org
END:VEVENT
BEGIN:VEVENT
DTSTART;VALUE=DATE:20261113
DTEND;VALUE=DATE:20261114
DTSTAMP:20260425T170647
CREATED:20260413T154145Z
LAST-MODIFIED:20260413T154145Z
UID:1948-1794528000-1794614399@mpo-bourgogne.org
SUMMARY:Journée d'étude Transmission des Langues d'Oïl
DESCRIPTION:Plus d’info prochainement. \nOrganisée par l’association Défense et promotion des langues d’Oïl à l’Université du Mans \nAG de DPLO le 14 novembre
URL:https://mpo-bourgogne.org/evenement/journee-detude-transmission-des-langues-doil/
LOCATION:Université du Mans\, Université du Mans\, Le Mans\, 72085
CATEGORIES:Conférence / tables rondes,Hors-les-murs,Langues de Bourgogne,Rencontre
END:VEVENT
BEGIN:VEVENT
DTSTART;VALUE=DATE:20261217
DTEND;VALUE=DATE:20261219
DTSTAMP:20260425T170647
CREATED:20260413T154400Z
LAST-MODIFIED:20260413T154400Z
UID:1952-1797465600-1797638399@mpo-bourgogne.org
SUMMARY:Rencontres Nationales des Ethnopôles
DESCRIPTION:Plus d’info bientôt. \nAu MuCEM à Marseille
URL:https://mpo-bourgogne.org/evenement/rencontres-nationales-des-ethnopoles/
LOCATION:MuCEM\, 1 Esp. J4\, Marseille\, 13002
CATEGORIES:Conférence / tables rondes,Hors-les-murs,Rencontre,Réseaux
END:VEVENT
END:VCALENDAR