BEGIN:VCALENDAR
VERSION:2.0
PRODID:-//Maison du Patrimoine Oral de Bourgogne - ECPv6.15.20//NONSGML v1.0//EN
CALSCALE:GREGORIAN
METHOD:PUBLISH
X-WR-CALNAME:Maison du Patrimoine Oral de Bourgogne
X-ORIGINAL-URL:https://mpo-bourgogne.org
X-WR-CALDESC:Évènements pour Maison du Patrimoine Oral de Bourgogne
REFRESH-INTERVAL;VALUE=DURATION:PT1H
X-Robots-Tag:noindex
X-PUBLISHED-TTL:PT1H
BEGIN:VTIMEZONE
TZID:Europe/Paris
BEGIN:DAYLIGHT
TZOFFSETFROM:+0100
TZOFFSETTO:+0200
TZNAME:CEST
DTSTART:20250330T010000
END:DAYLIGHT
BEGIN:STANDARD
TZOFFSETFROM:+0200
TZOFFSETTO:+0100
TZNAME:CET
DTSTART:20251026T010000
END:STANDARD
BEGIN:DAYLIGHT
TZOFFSETFROM:+0100
TZOFFSETTO:+0200
TZNAME:CEST
DTSTART:20260329T010000
END:DAYLIGHT
BEGIN:STANDARD
TZOFFSETFROM:+0200
TZOFFSETTO:+0100
TZNAME:CET
DTSTART:20261025T010000
END:STANDARD
BEGIN:DAYLIGHT
TZOFFSETFROM:+0100
TZOFFSETTO:+0200
TZNAME:CEST
DTSTART:20270328T010000
END:DAYLIGHT
BEGIN:STANDARD
TZOFFSETFROM:+0200
TZOFFSETTO:+0100
TZNAME:CET
DTSTART:20271031T010000
END:STANDARD
END:VTIMEZONE
BEGIN:VEVENT
DTSTART;TZID=Europe/Paris:20260626T180000
DTEND;TZID=Europe/Paris:20260626T210000
DTSTAMP:20260425T182303
CREATED:20260413T145803Z
LAST-MODIFIED:20260413T145803Z
UID:1915-1782496800-1782507600@mpo-bourgogne.org
SUMMARY:Fête des écoles d'Anost-Cussy
DESCRIPTION:Dans le cadre de la fêtes des écoles\, la MPOB proposera une exposition de photos de classes anciennes issues du Fonds Jacqueline Paineau
URL:https://mpo-bourgogne.org/evenement/fete-des-ecoles-danost-cussy/
LOCATION:Salle des Fêtes d’Anost
CATEGORIES:Animation famille,Exposition,Scolaires
END:VEVENT
BEGIN:VEVENT
DTSTART;TZID=Europe/Paris:20261030T100000
DTEND;TZID=Europe/Paris:20261030T120000
DTSTAMP:20260425T182303
CREATED:20260413T153720Z
LAST-MODIFIED:20260413T153720Z
UID:1946-1793354400-1793361600@mpo-bourgogne.org
SUMMARY:Animation Vacances de la Toussaint
DESCRIPTION:Plus d’infos prochainement
URL:https://mpo-bourgogne.org/evenement/animation-vacances-de-la-toussaint/
LOCATION:MPOB\, Place de la Bascule\, Anost\, 71550
CATEGORIES:À la maïon,Animation famille
END:VEVENT
BEGIN:VEVENT
DTSTART;TZID=Europe/Paris:20261229T100000
DTEND;TZID=Europe/Paris:20261229T120000
DTSTAMP:20260425T182303
CREATED:20260413T154510Z
LAST-MODIFIED:20260413T154510Z
UID:1955-1798538400-1798545600@mpo-bourgogne.org
SUMMARY:Animation de Noël
DESCRIPTION:Plus d’infos bientôt
URL:https://mpo-bourgogne.org/evenement/animation-de-noel/
LOCATION:MPOB\, Place de la Bascule\, Anost\, 71550
CATEGORIES:À la maïon,Animation famille,Lieu de vie en milieu rural
END:VEVENT
END:VCALENDAR